BEGIN:VCALENDAR
VERSION:2.0
PRODID:-//Plone.org//NONSGML plone.app.event//EN
X-WR-TIMEZONE:Europe/Berlin
BEGIN:VEVENT
SUMMARY:Open Science Coffee Lecture
DTSTART;TZID=Europe/Berlin:20221221T123000
DTEND;TZID=Europe/Berlin:20221221T124500
DTSTAMP:20260423T081310Z
UID:7ef8c4394dcb4d8db4af6ef306c67743@www.medfak.uni-bonn.de
CREATED:20220930T104946Z
DESCRIPTION:Topic: „I know what your lab will publish next summer“ Pri
 vacy aspects in reseach.\nSpeaker: Dr. S. Zerr\, HRZ\n\nNo registration is
  required. Further information and all dates can be found online:\nhttps:/
 /www.open-access.uni-bonn.de/de/events/open-science-coffee-lectures
LAST-MODIFIED:20250905T231216Z
URL:https://www.medfak.uni-bonn.de/de/fakultaet/veranstaltungen/open-scien
 ce-coffee-lecture-2
END:VEVENT
BEGIN:VTIMEZONE
TZID:Europe/Berlin
X-LIC-LOCATION:Europe/Berlin
BEGIN:STANDARD
DTSTART:20221030T020000
TZNAME:CET
TZOFFSETFROM:+0200
TZOFFSETTO:+0100
END:STANDARD
END:VTIMEZONE
END:VCALENDAR
