BEGIN:VCALENDAR
VERSION:2.0
PRODID:-//Plone.org//NONSGML plone.app.event//EN
X-WR-TIMEZONE:Europe/Berlin
BEGIN:VEVENT
SUMMARY:Postdoc Day 2023
DTSTART;TZID=Europe/Berlin:20230621T170000
DTEND;TZID=Europe/Berlin:20230621T193000
DTSTAMP:20260426T053332Z
UID:cd619f9a5f6e4827889d156ff0c46b7b@www.medfak.uni-bonn.de
CREATED:20230612T073342Z
DESCRIPTION:Postdocs and PhD Students of any disciplinary background can p
 rovide scientific expertise regarding the grand challenges of our time at 
 the local\, regional\, and international level. This year\, the evening is
  also open to doctoral students. At this event renowned researchers provid
 e examples on how they started and share experiences from working with the
  political sphere. Join the discussion about possibilities\, challenges an
 d limits of policy advice with\n\n- Prof. Dr. David Kaldewey | Host\n- Dr.
  Stefan Brüggemann | Introduction\n- Prof. Dr. Christiane Woopen | Paneli
 st\n- Prof. Dr. Matin Qaim | Panelist\n- Prof. Dr. Clara Brandi | Panelist
 \n- Prof. Dr. Maximilian Mayer | Panelist\n\nRegister now and network with
  your colleagues from all other faculties over finger food and live music.
  More information about the program can be found on our event website.
LAST-MODIFIED:20230808T075942Z
URL:https://www.medfak.uni-bonn.de/de/fakultaet/veranstaltungen/postdoc-da
 y-2023
END:VEVENT
BEGIN:VTIMEZONE
TZID:Europe/Berlin
X-LIC-LOCATION:Europe/Berlin
BEGIN:DAYLIGHT
DTSTART:20230326T030000
TZNAME:CEST
TZOFFSETFROM:+0100
TZOFFSETTO:+0200
END:DAYLIGHT
END:VTIMEZONE
END:VCALENDAR
