BEGIN:VCALENDAR
VERSION:2.0
PRODID:-//Plone.org//NONSGML plone.app.event//EN
X-WR-TIMEZONE:Europe/Berlin
BEGIN:VEVENT
SUMMARY:Publishing your book in Open Access?
DTSTART;TZID=Europe/Berlin:20230726T123000
DTEND;TZID=Europe/Berlin:20230726T124500
DTSTAMP:20260424T064939Z
UID:7df07a962d09474b8c21fd16749d95fb@www.medfak.uni-bonn.de
CREATED:20230330T123000Z
DESCRIPTION:Here's what to consider!\n\nOpen access has developed into a h
 ighly dynamic field in the area of book publications in recent years. As t
 he publication landscape in the area of scholarly books is very heterogene
 ous\, the established open access models for journals cannot simply be tra
 nsferred. An efficient infrastructure with various publication and funding
  options has now also developed in the area of open access books. Get to k
 now your options for publishing your open access book!\n\nThe Open Access 
 & Research Data Service Centers are continuing the Open Science Coffee Lec
 tures in the summer semester 2023. Speaker: Ariane Larrat\, ULB
LAST-MODIFIED:20230427T064915Z
URL:https://www.medfak.uni-bonn.de/de/fakultaet/veranstaltungen/publishing
 -your-book-in-open-access
END:VEVENT
BEGIN:VTIMEZONE
TZID:Europe/Berlin
X-LIC-LOCATION:Europe/Berlin
BEGIN:DAYLIGHT
DTSTART:20230326T030000
TZNAME:CEST
TZOFFSETFROM:+0100
TZOFFSETTO:+0200
END:DAYLIGHT
END:VTIMEZONE
END:VCALENDAR
