BEGIN:VCALENDAR
VERSION:2.0
PRODID:-//Plone.org//NONSGML plone.app.event//EN
X-WR-TIMEZONE:Europe/Berlin
BEGIN:VEVENT
SUMMARY:Symposium Digitale Medizin - October 25
DTSTART;TZID=Europe/Berlin:20221025T163000
DTEND;TZID=Europe/Berlin:20221025T183000
DTSTAMP:20260424T072031Z
UID:6971580514254566bfe36e44ce0645e0@www.medfak.uni-bonn.de
CREATED:20220427T125654Z
DESCRIPTION:In angenehmer Atmosphäre bietet das Symposium Digitale Medizi
 n die Möglichkeit zum persönlichen Austausch zwischen allen Anwender:inn
 en\, Umsetzer:innen sowie Freund:innen und interessierten Personen der dig
 italen Medizin und die Chance\, sich zu Ideen und Projekten inspirieren zu
  lassen. Das Symposium ist die Auftaktveranstaltung für weitere kommende 
 Zusammentreffen\, welche im Netzwerk Digitale Medizin des Universitätskli
 nikums Bonn organisiert werden. Im Rahmen des Symposiums werden fünf Impu
 lsvorträge gegeben\, die die Vielfältigkeit der Digitalisierung am Unive
 rsitätsklinikum\nBonn darstellen. Zeit für Austausch und Diskussionen bl
 eibt bei einem anschließenden geselligen Beisammensein.
LAST-MODIFIED:20221130T094414Z
URL:https://www.medfak.uni-bonn.de/de/fakultaet/veranstaltungen/transfer/2
 5-10-22
END:VEVENT
BEGIN:VTIMEZONE
TZID:Europe/Berlin
X-LIC-LOCATION:Europe/Berlin
BEGIN:DAYLIGHT
DTSTART:20220327T030000
TZNAME:CEST
TZOFFSETFROM:+0100
TZOFFSETTO:+0200
END:DAYLIGHT
END:VTIMEZONE
END:VCALENDAR
