BEGIN:VCALENDAR
VERSION:2.0
PRODID:-//Plone.org//NONSGML plone.app.event//EN
X-WR-TIMEZONE:Europe/Berlin
BEGIN:VEVENT
SUMMARY:“Autofluorescence in Spectral Cytometry”.
DTSTART;TZID=Europe/Berlin:20250725T130000
DTEND;TZID=Europe/Berlin:20250725T153000
DTSTAMP:20260424T072033Z
UID:6222906c853f41beae54928051870945@www.medfak.uni-bonn.de
CATEGORIES:BTC,BTC-FCCF
CREATED:20250703T141457Z
DESCRIPTION:Topics to be covered:\n\n    What is autofluorescence (AF)?\n\
 n    Primary sources of cellular autofluorescence\n\n    What is needed to
  identify AF?\n\n    AF and dead cell exclusion dyes\n\n    How does the A
 F tool work?\n\n    Practical examples of AF application\n\nThis session w
 ill provide valuable insights into handling autofluorescence in spectral f
 low cytometry and the advantages offered by the Sony ID7000 system.
LAST-MODIFIED:20250905T230548Z
URL:https://www.medfak.uni-bonn.de/en/research/infrastructure/events/autof
 luorescence-in-spectral-cytometry
END:VEVENT
BEGIN:VTIMEZONE
TZID:Europe/Berlin
X-LIC-LOCATION:Europe/Berlin
BEGIN:DAYLIGHT
DTSTART:20250330T030000
TZNAME:CEST
TZOFFSETFROM:+0100
TZOFFSETTO:+0200
END:DAYLIGHT
END:VTIMEZONE
END:VCALENDAR
