BEGIN:VCALENDAR
VERSION:2.0
PRODID:-//Plone.org//NONSGML plone.app.event//EN
X-WR-TIMEZONE:Europe/Berlin
BEGIN:VEVENT
SUMMARY:Functional single-cell assays with flow-compatible droplets
DTSTART;TZID=Europe/Berlin:20260323T110000
DTEND;TZID=Europe/Berlin:20260323T120000
DTSTAMP:20260419T161520Z
UID:35fa47decb094070b8b18c605309823f@www.medfak.uni-bonn.de
CATEGORIES:BTC-FCCF,BTC
CREATED:20260309T152549Z
DESCRIPTION:The Flow Cytometry Core Facility invites all PIs and researche
 rs\, particularly those within ImmunoSensation Cluster\, Immuno Oncology G
 roups and the Organoid Club to explore possible new high-end sorting workf
 lows.\n\nWe are combining Samplix double emulsion technology with the Sony
  MA900 Large Particle Option to unlock new research possibilities:\n\nFunc
 tional Assays: Use Samplix droplets for single-cell cytotoxic killing and 
 cytokine secretion assays.\n\nBeyond Standard Cells: Sort large particles 
 (>50 µm)\, clusters\, and small organoids with the MA900’s specialized 
 sorting option.\n\nPrecision Isolation: Isolate rare phenotypes based on f
 unctional output rather than just surface markers.\n\nJoin us to see how t
 hese tools can elevate your next project.\n\nFurther information can be fo
 und here:\n\nhttps://samplix.com\n\nhttps://www.selectscience.net/webinar/
 introduction-to-large-particle-sorting-applications-with-sony-cell-sorters
LAST-MODIFIED:20260309T153535Z
URL:https://www.medfak.uni-bonn.de/en/research/infrastructure/events/funct
 ional-single-cell-assays-with-flow-compatible-droplets
END:VEVENT
BEGIN:VTIMEZONE
TZID:Europe/Berlin
X-LIC-LOCATION:Europe/Berlin
BEGIN:STANDARD
DTSTART:20251026T020000
TZNAME:CET
TZOFFSETFROM:+0200
TZOFFSETTO:+0100
END:STANDARD
END:VTIMEZONE
END:VCALENDAR
